BEGIN:VCALENDAR
VERSION:2.0
PRODID:-//La maison de Verlaine - ECPv4.1.4//NONSGML v1.0//EN
CALSCALE:GREGORIAN
METHOD:PUBLISH
X-WR-CALNAME:La maison de Verlaine
X-ORIGINAL-URL:http://www.amis-verlaine.net
X-WR-CALDESC:Events for La maison de Verlaine
BEGIN:VEVENT
DTSTART;TZID=UTC+0:20220402T140000
DTEND;TZID=UTC+0:20220402T180000
DTSTAMP:20260425T160934
CREATED:20220316T194215
LAST-MODIFIED:20220321T191147
UID:2646-1648908000-1648922400@www.amis-verlaine.net
SUMMARY:16èmes Journées d'histoire régionale
DESCRIPTION:Les Amis de Verlaine y tiendront un stand.\n\n 
URL:http://www.amis-verlaine.net/evenement/16emes-journees-dhistoire-regionale-2022/
CATEGORIES:Autres événements
END:VEVENT
END:VCALENDAR