BEGIN:VCALENDAR
VERSION:2.0
PRODID:-//La maison de Verlaine - ECPv4.1.4//NONSGML v1.0//EN
CALSCALE:GREGORIAN
METHOD:PUBLISH
X-WR-CALNAME:La maison de Verlaine
X-ORIGINAL-URL:http://www.amis-verlaine.net
X-WR-CALDESC:Events for La maison de Verlaine
BEGIN:VEVENT
DTSTART;TZID=UTC+0:20220514T180000
DTEND;TZID=UTC+0:20220514T200000
DTSTAMP:20260422T042022
CREATED:20220508T172538
LAST-MODIFIED:20220508T174217
UID:2655-1652551200-1652558400@www.amis-verlaine.net
SUMMARY:Carte blanche à Marie-Chantal et Pierre Lhote
DESCRIPTION:Récit d'histoire : Résister par l'écriture\, le journal de Maria Parisot dans les années 1914-1918.\n\n\n\n« Vivre à Saint-Mihiel pendant la Grande Guerre 1914-1918 »\nMaria Parisot\, d’origine meusienne\, est issue d’une fratrie de dix enfants. En 1914\, elle est âgée de 22 ans et habite à Saint-Mihiel (Meuse). Avec sa sœur aînée Virginie\, elle se retrouve prisonnière de la ville pendant les quatre années du conflit. Les Allemands se sont servis des habitants comme boucliers humains pour occuper la ville de 1914 à 1918. Dans un journal rédigé en cachette\, écrit au jour le jour\, elle décrit le quotidien des Sammiellois : les bruits de la guerre (bombardements incessants ...)\, les difficultés de ravitaillement\, les réquisitions\, les perquisitions imposées par les Allemands. Son témoignage\, émouvant\, nous fait revivre le quotidien des habitants de Saint-Mihiel pendant les quatre années du conflit. Son journal s’arrête au mois d’août 1918 et la ville est libérée par les troupes américaines en septembre 1918 .\n\n
URL:http://www.amis-verlaine.net/evenement/carte-blanche-a-marie-chantal-et-pierre-lhote/
LOCATION:2 rue Haute Pierre\, Metz\, Lorraine\, 57000\, France
CATEGORIES:Les petits salons
END:VEVENT
END:VCALENDAR