BEGIN:VCALENDAR
VERSION:2.0
PRODID:-//La maison de Verlaine - ECPv4.1.4//NONSGML v1.0//EN
CALSCALE:GREGORIAN
METHOD:PUBLISH
X-WR-CALNAME:La maison de Verlaine
X-ORIGINAL-URL:http://www.amis-verlaine.net
X-WR-CALDESC:Events for La maison de Verlaine
BEGIN:VEVENT
DTSTART;TZID=UTC+0:20190922T133000
DTEND;TZID=UTC+0:20190922T183000
DTSTAMP:20260424T173925
CREATED:20190913T052612
LAST-MODIFIED:20190913T052612
UID:1984-1569159000-1569177000@www.amis-verlaine.net
SUMMARY:Journées européennes du Patrimoine
DESCRIPTION:La Maison de Verlaine sera ouverte à la visite:\nle samedi 21 septembre de 14h00 à 19h00\net le dimanche 22 septembre de 13h30 à 18h30\n(Groupe de visite toutes les heures)\n\n\nIl est demandé de réserver son horaire à l'avance\n\n\nau 06.34.52.22.34 ou par mail : admmaisondeverlaine@gmail.com\n\n\nA cette occasion\, nous pratiquons le tarif réduit (5€ et 3\,50€). Gratuit jusqu'à 18 ans.\n\n\nLe thème de la visite :\n\n\n"L'enfance à Metz du poète"\n\n\nDes lectures poétiques accompagnées au piano agrémenteront la visite.
URL:http://www.amis-verlaine.net/evenement/journees-europeennes-du-patrimoine-4/
CATEGORIES:Autres événements
END:VEVENT
END:VCALENDAR