BEGIN:VCALENDAR
VERSION:2.0
PRODID:-//La maison de Verlaine - ECPv4.1.4//NONSGML v1.0//EN
CALSCALE:GREGORIAN
METHOD:PUBLISH
X-WR-CALNAME:La maison de Verlaine
X-ORIGINAL-URL:http://www.amis-verlaine.net
X-WR-CALDESC:Events for La maison de Verlaine
BEGIN:VEVENT
DTSTART;TZID=UTC+0:20220120T183000
DTEND;TZID=UTC+0:20220120T194500
DTSTAMP:20260423T150510
CREATED:20220105T210842
LAST-MODIFIED:20220115T221054
UID:2626-1642703400-1642707900@www.amis-verlaine.net
SUMMARY:Visite guidée tous publics (à confirmer)
DESCRIPTION:Visite effectuée dans le cadre du partenariat avec le Centre Pompidou de Metz pour l'exposition "Écrire\, c'est dessiner"\, qui présente des écrits de Verlaine.
URL:http://www.amis-verlaine.net/evenement/visite-guidee-tous-publics/
LOCATION:2 rue Haute Pierre\, Metz\, Lorraine\, 57000\, France
CATEGORIES:Autres événements
END:VEVENT
END:VCALENDAR